BEGIN:VCALENDAR
VERSION:2.0
PRODID:-//Institut National des Langues - ECPv4.9.13//NONSGML v1.0//EN
CALSCALE:GREGORIAN
METHOD:PUBLISH
X-WR-CALNAME:Institut National des Langues
X-ORIGINAL-URL:http://www.inll.lu/en
X-WR-CALDESC:Events for Institut National des Langues
BEGIN:VTIMEZONE
TZID:UTC
BEGIN:STANDARD
TZOFFSETFROM:+0000
TZOFFSETTO:+0000
TZNAME:UTC
DTSTART:20200101T000000
END:STANDARD
END:VTIMEZONE
BEGIN:VEVENT
DTSTART;VALUE=DATE:20200422
DTEND;VALUE=DATE:20200423
DTSTAMP:20200422T081814
CREATED:20191010T133219Z
LAST-MODIFIED:20200421T103057Z
UID:28059-1587513600-1587599999@www.inll.lu
SUMMARY:TestDaF : schriftliche + mündliche Prüfung => ANNULIERT
DESCRIPTION:Schriftliche und mündliche Prüfung :  22/04/2020 \nAnmeldeschluss :                                      27/03/2020 \nWeitere Informationen > \n
URL:http://www.inll.lu/en/event/testdaf-schriftliche-muendliche-pruefung-3-2-2/
CATEGORIES:TestDaf
ATTACH;FMTTYPE=image/png:http://www.inll.lu/wp-content/uploads/2015/01/testdaf.png
END:VEVENT
BEGIN:VEVENT
DTSTART;VALUE=DATE:20200424
DTEND;VALUE=DATE:20200425
DTSTAMP:20200422T081814
CREATED:20191010T131704Z
LAST-MODIFIED:20200421T102932Z
UID:28030-1587686400-1587772799@www.inll.lu
SUMMARY:Goethe-Zertifikat : C1 => ANNULIERT
DESCRIPTION:Niveau : Goethe Zertifikat Deutsch C1 \nSchriftliche + Mündliche Prüfung :  24/04/2020 \n  \n  \nAnmeldeschluss : 15/03/2020 \nWeitere Informationen >  \n
URL:http://www.inll.lu/en/event/goethe-zertifikat-muendliche-pruefung-c1-2/
CATEGORIES:Goethe
ATTACH;FMTTYPE=image/png:http://www.inll.lu/wp-content/uploads/2015/01/goethe.png
END:VEVENT
BEGIN:VEVENT
DTSTART;VALUE=DATE:20200430
DTEND;VALUE=DATE:20200501
DTSTAMP:20200422T081815
CREATED:20191003T132106Z
LAST-MODIFIED:20200421T102816Z
UID:27701-1588204800-1588291199@www.inll.lu
SUMMARY:IELTS ACADEMIC (only) => CANCELLED
DESCRIPTION:Last date for enrolments :                25.03.2020 \nTest (academic – only ) :                 30.04.2020 \nMore information > \n
URL:http://www.inll.lu/en/event/ielts-academic-general-training-2-2-2-2/
CATEGORIES:IELTS
ATTACH;FMTTYPE=image/png:http://www.inll.lu/wp-content/uploads/2015/01/brit-council.png
END:VEVENT
END:VCALENDAR